BEGIN:VCALENDAR
VERSION:2.0
PRODID:-//Bristol Historical Society - ECPv6.15.20//NONSGML v1.0//EN
CALSCALE:GREGORIAN
METHOD:PUBLISH
X-ORIGINAL-URL:https://bristolhistoricalsociety.org
X-WR-CALDESC:Events for Bristol Historical Society
REFRESH-INTERVAL;VALUE=DURATION:PT1H
X-Robots-Tag:noindex
X-PUBLISHED-TTL:PT1H
BEGIN:VTIMEZONE
TZID:America/New_York
BEGIN:DAYLIGHT
TZOFFSETFROM:-0500
TZOFFSETTO:-0400
TZNAME:EDT
DTSTART:20240310T070000
END:DAYLIGHT
BEGIN:STANDARD
TZOFFSETFROM:-0400
TZOFFSETTO:-0500
TZNAME:EST
DTSTART:20241103T060000
END:STANDARD
BEGIN:DAYLIGHT
TZOFFSETFROM:-0500
TZOFFSETTO:-0400
TZNAME:EDT
DTSTART:20250309T070000
END:DAYLIGHT
BEGIN:STANDARD
TZOFFSETFROM:-0400
TZOFFSETTO:-0500
TZNAME:EST
DTSTART:20251102T060000
END:STANDARD
BEGIN:DAYLIGHT
TZOFFSETFROM:-0500
TZOFFSETTO:-0400
TZNAME:EDT
DTSTART:20260308T070000
END:DAYLIGHT
BEGIN:STANDARD
TZOFFSETFROM:-0400
TZOFFSETTO:-0500
TZNAME:EST
DTSTART:20261101T060000
END:STANDARD
END:VTIMEZONE
BEGIN:VEVENT
DTSTART;TZID=America/New_York:20250719T090000
DTEND;TZID=America/New_York:20250719T140000
DTSTAMP:20260419T115215
CREATED:20250707T150941Z
LAST-MODIFIED:20250707T150941Z
UID:2856-1752915600-1752933600@bristolhistoricalsociety.org
SUMMARY:Christmas in July Sale
DESCRIPTION:Start your holiday shopping early! \nJoin us for our Christmas-in-July sale\, featuring a curated selection of new or like-new artificial trees\, lights\, ornaments\, wrapping paper\, and other décor on Saturday\, July 19\, from 9am to 2pm at the Bristol Historical Society. Everything is priced to sell. \nGet in the holiday spirit and squirrel away some items for winter!
URL:https://bristolhistoricalsociety.org/event/christmas-in-july-sale/
LOCATION:Bristol Historical Society\, 98 Summer Street\, Bristol\, CT\, 06011-1393\, United States
ATTACH;FMTTYPE=image/png:https://bristolhistoricalsociety.org/wp-content/uploads/2025/07/CHristmas-in-july.png
END:VEVENT
END:VCALENDAR